BEGIN:VCALENDAR
VERSION:2.0
PRODID:-//Salt Of The Earth - ECPv6.15.20//NONSGML v1.0//EN
CALSCALE:GREGORIAN
METHOD:PUBLISH
X-ORIGINAL-URL:https://saltoftheearthcfh.com
X-WR-CALDESC:Events for Salt Of The Earth
REFRESH-INTERVAL;VALUE=DURATION:PT1H
X-Robots-Tag:noindex
X-PUBLISHED-TTL:PT1H
BEGIN:VTIMEZONE
TZID:America/New_York
BEGIN:DAYLIGHT
TZOFFSETFROM:-0500
TZOFFSETTO:-0400
TZNAME:EDT
DTSTART:20240310T070000
END:DAYLIGHT
BEGIN:STANDARD
TZOFFSETFROM:-0400
TZOFFSETTO:-0500
TZNAME:EST
DTSTART:20241103T060000
END:STANDARD
BEGIN:DAYLIGHT
TZOFFSETFROM:-0500
TZOFFSETTO:-0400
TZNAME:EDT
DTSTART:20250309T070000
END:DAYLIGHT
BEGIN:STANDARD
TZOFFSETFROM:-0400
TZOFFSETTO:-0500
TZNAME:EST
DTSTART:20251102T060000
END:STANDARD
BEGIN:DAYLIGHT
TZOFFSETFROM:-0500
TZOFFSETTO:-0400
TZNAME:EDT
DTSTART:20260308T070000
END:DAYLIGHT
BEGIN:STANDARD
TZOFFSETFROM:-0400
TZOFFSETTO:-0500
TZNAME:EST
DTSTART:20261101T060000
END:STANDARD
BEGIN:DAYLIGHT
TZOFFSETFROM:-0500
TZOFFSETTO:-0400
TZNAME:EDT
DTSTART:20270314T070000
END:DAYLIGHT
BEGIN:STANDARD
TZOFFSETFROM:-0400
TZOFFSETTO:-0500
TZNAME:EST
DTSTART:20271107T060000
END:STANDARD
END:VTIMEZONE
BEGIN:VEVENT
DTSTART;TZID=America/New_York:20250406T143000
DTEND;TZID=America/New_York:20250406T153000
DTSTAMP:20260420T020859
CREATED:20250129T173721Z
LAST-MODIFIED:20250226T185836Z
UID:1920-1743949800-1743953400@saltoftheearthcfh.com
SUMMARY:Singing Bowls Sound Healing (SOLD OUT)
DESCRIPTION:In the serene and relaxing environment of the salt cave\, enjoy the sounds and vibrations of singing bowls and meditation with sound healer Beth Lantigua. Call 845-290-0678 to register.
URL:https://saltoftheearthcfh.com/upcoming-event/singing-bowls-sound-healing-20/
LOCATION:Salt of the Earth\, Center for Healing\, 811 Chestnut Ridge Rd.\, Chestnut Ridge\, New York\, 10977
ATTACH;FMTTYPE=image/jpeg:https://saltoftheearthcfh.com/wp-content/uploads/2017/04/sound-healing-image.jpg
END:VEVENT
BEGIN:VEVENT
DTSTART;TZID=America/New_York:20250413T143000
DTEND;TZID=America/New_York:20250413T153000
DTSTAMP:20260420T020859
CREATED:20250226T185248Z
LAST-MODIFIED:20250226T185248Z
UID:1930-1744554600-1744558200@saltoftheearthcfh.com
SUMMARY:Past Life Regression
DESCRIPTION:In the relaxing and healing environment of the salt cave\, learn to understand yourself better by connecting with your past life.   Led by Lindsey Sass – owner of the NJ Healing Center. \nCall 845-290-0678 to register!
URL:https://saltoftheearthcfh.com/upcoming-event/past-life-regression-15/
LOCATION:Salt of the Earth\, Center for Healing\, 811 Chestnut Ridge Rd.\, Chestnut Ridge\, New York\, 10977
ATTACH;FMTTYPE=image/jpeg:https://saltoftheearthcfh.com/wp-content/uploads/2018/02/Past-Life-Regression.jpg
END:VEVENT
BEGIN:VEVENT
DTSTART;TZID=America/New_York:20250427T143000
DTEND;TZID=America/New_York:20250427T153000
DTSTAMP:20260420T020859
CREATED:20250129T174145Z
LAST-MODIFIED:20250129T174145Z
UID:1923-1745764200-1745767800@saltoftheearthcfh.com
SUMMARY:Singing Bowls Sound Healing (SOLDOUT)
DESCRIPTION:In the serene and relaxing environment of the salt cave\, enjoy the sounds and vibrations of singing bowls and meditation with sound healer Beth Lantigua. Call 845-290-0678 to register.
URL:https://saltoftheearthcfh.com/upcoming-event/singing-bowls-sound-healing-soldout/
LOCATION:Salt of the Earth\, Center for Healing\, 811 Chestnut Ridge Rd.\, Chestnut Ridge\, New York\, 10977
ATTACH;FMTTYPE=image/jpeg:https://saltoftheearthcfh.com/wp-content/uploads/2017/04/sound-healing-image.jpg
END:VEVENT
BEGIN:VEVENT
DTSTART;TZID=America/New_York:20250503T163000
DTEND;TZID=America/New_York:20250503T173000
DTSTAMP:20260420T020859
CREATED:20250423T184118Z
LAST-MODIFIED:20250423T184339Z
UID:1946-1746289800-1746293400@saltoftheearthcfh.com
SUMMARY:Singing Bowls Sounds Healing (Sold Out)
DESCRIPTION:In the serene and relaxing environment of the salt cave\, enjoy the sounds and vibrations of singing bowls and meditation with sound healer Beth Lantigua. Call 845-290-0678 to register.
URL:https://saltoftheearthcfh.com/upcoming-event/singing-bowls-sounds-healing/
LOCATION:Salt of the Earth\, Center for Healing\, 811 Chestnut Ridge Rd.\, Chestnut Ridge\, New York\, 10977
ATTACH;FMTTYPE=image/jpeg:https://saltoftheearthcfh.com/wp-content/uploads/2017/04/sound-healing-image.jpg
END:VEVENT
BEGIN:VEVENT
DTSTART;TZID=America/New_York:20250607T163000
DTEND;TZID=America/New_York:20250607T173000
DTSTAMP:20260420T020859
CREATED:20250423T184235Z
LAST-MODIFIED:20250423T184235Z
UID:1948-1749313800-1749317400@saltoftheearthcfh.com
SUMMARY:Singing Bowls Sound Healing
DESCRIPTION:In the serene and relaxing environment of the salt cave\, enjoy the sounds and vibrations of singing bowls and meditation with sound healer Beth Lantigua. Call 845-290-0678 to register.
URL:https://saltoftheearthcfh.com/upcoming-event/singing-bowls-sound-healing-21/
LOCATION:Salt of the Earth\, Center for Healing\, 811 Chestnut Ridge Rd.\, Chestnut Ridge\, New York\, 10977
ATTACH;FMTTYPE=image/jpeg:https://saltoftheearthcfh.com/wp-content/uploads/2017/04/sound-healing-image.jpg
END:VEVENT
BEGIN:VEVENT
DTSTART;TZID=America/New_York:20250914T143000
DTEND;TZID=America/New_York:20250914T153000
DTSTAMP:20260420T020859
CREATED:20250620T182803Z
LAST-MODIFIED:20250620T183026Z
UID:1962-1757860200-1757863800@saltoftheearthcfh.com
SUMMARY:Singing Bowls Sound Healing (Sold Out)
DESCRIPTION:In the serene and relaxing environment of the salt cave\, enjoy the sounds and vibrations of singing bowls and meditation with sound healer Beth Lantigua. Call 845-290-0678 to register.
URL:https://saltoftheearthcfh.com/upcoming-event/singing-bowls-sound-healing-22/
LOCATION:Salt of the Earth\, Center for Healing\, 811 Chestnut Ridge Rd.\, Chestnut Ridge\, New York\, 10977
ATTACH;FMTTYPE=image/jpeg:https://saltoftheearthcfh.com/wp-content/uploads/2017/04/sound-healing-image.jpg
END:VEVENT
BEGIN:VEVENT
DTSTART;TZID=America/New_York:20250921T143000
DTEND;TZID=America/New_York:20250921T153000
DTSTAMP:20260420T020859
CREATED:20250620T185526Z
LAST-MODIFIED:20250620T185526Z
UID:1968-1758465000-1758468600@saltoftheearthcfh.com
SUMMARY:Past Life Regression
DESCRIPTION:In the relaxing and healing environment of the salt cave\, learn to understand yourself better by connecting with your past life.   Led by Lindsey Sass – owner of the NJ Healing Center. \nCall 845-290-0678 to register!
URL:https://saltoftheearthcfh.com/upcoming-event/past-life-regression-16/
LOCATION:Salt of the Earth\, Center for Healing\, 811 Chestnut Ridge Rd.\, Chestnut Ridge\, New York\, 10977
ATTACH;FMTTYPE=image/jpeg:https://saltoftheearthcfh.com/wp-content/uploads/2018/02/Past-Life-Regression.jpg
END:VEVENT
BEGIN:VEVENT
DTSTART;TZID=America/New_York:20250927T163000
DTEND;TZID=America/New_York:20250927T173000
DTSTAMP:20260420T020859
CREATED:20250620T185306Z
LAST-MODIFIED:20250725T144555Z
UID:1966-1758990600-1758994200@saltoftheearthcfh.com
SUMMARY:Singing Bowls Sound Healing (Sold Out)
DESCRIPTION:In the serene and relaxing environment of the salt cave\, enjoy the sounds and vibrations of singing bowls and meditation with sound healer Beth Lantigua. Call 845-290-0678 to register.
URL:https://saltoftheearthcfh.com/upcoming-event/singing-bowls-sound-healing-23/
LOCATION:Salt of the Earth\, Center for Healing\, 811 Chestnut Ridge Rd.\, Chestnut Ridge\, New York\, 10977
ATTACH;FMTTYPE=image/jpeg:https://saltoftheearthcfh.com/wp-content/uploads/2017/04/sound-healing-image.jpg
END:VEVENT
BEGIN:VEVENT
DTSTART;TZID=America/New_York:20251019T143000
DTEND;TZID=America/New_York:20251019T153000
DTSTAMP:20260420T020859
CREATED:20250725T144743Z
LAST-MODIFIED:20250926T174102Z
UID:1972-1760884200-1760887800@saltoftheearthcfh.com
SUMMARY:Singing Bowls Sound Healing (Sold Out)
DESCRIPTION:In the serene and relaxing environment of the salt cave\, enjoy the sounds and vibrations of singing bowls and meditation with sound healer Beth Lantigua. Call 845-290-0678 to register.
URL:https://saltoftheearthcfh.com/upcoming-event/singing-bowls-sound-healing-24/
LOCATION:Salt of the Earth\, Center for Healing\, 811 Chestnut Ridge Rd.\, Chestnut Ridge\, New York\, 10977
ATTACH;FMTTYPE=image/jpeg:https://saltoftheearthcfh.com/wp-content/uploads/2017/04/sound-healing-image.jpg
END:VEVENT
BEGIN:VEVENT
DTSTART;TZID=America/New_York:20251109T143000
DTEND;TZID=America/New_York:20251109T153000
DTSTAMP:20260420T020859
CREATED:20250926T174219Z
LAST-MODIFIED:20251106T165937Z
UID:1981-1762698600-1762702200@saltoftheearthcfh.com
SUMMARY:Singing Bowls Sound Healing (SOLD OUT)
DESCRIPTION:In the serene and relaxing environment of the salt cave\, enjoy the sounds and vibrations of singing bowls and meditation with sound healer Beth Lantigua. Call 845-290-0678 to register.
URL:https://saltoftheearthcfh.com/upcoming-event/singing-bowls-sound-healing-25/
LOCATION:Salt of the Earth\, Center for Healing\, 811 Chestnut Ridge Rd.\, Chestnut Ridge\, New York\, 10977
ATTACH;FMTTYPE=image/jpeg:https://saltoftheearthcfh.com/wp-content/uploads/2017/04/sound-healing-image.jpg
END:VEVENT
BEGIN:VEVENT
DTSTART;TZID=America/New_York:20251207T143000
DTEND;TZID=America/New_York:20251207T153000
DTSTAMP:20260420T020859
CREATED:20250926T174323Z
LAST-MODIFIED:20251106T165911Z
UID:1983-1765117800-1765121400@saltoftheearthcfh.com
SUMMARY:Singing Bowls Sound Healing (SOLD OUT)
DESCRIPTION:In the serene and relaxing environment of the salt cave\, enjoy the sounds and vibrations of singing bowls and meditation with sound healer Beth Lantigua. Call 845-290-0678 to register.
URL:https://saltoftheearthcfh.com/upcoming-event/singing-bowls-sound-healing-26/
LOCATION:Salt of the Earth\, Center for Healing\, 811 Chestnut Ridge Rd.\, Chestnut Ridge\, New York\, 10977
ATTACH;FMTTYPE=image/jpeg:https://saltoftheearthcfh.com/wp-content/uploads/2017/04/sound-healing-image.jpg
END:VEVENT
BEGIN:VEVENT
DTSTART;TZID=America/New_York:20260104T143000
DTEND;TZID=America/New_York:20260104T153000
DTSTAMP:20260420T020859
CREATED:20251031T172111Z
LAST-MODIFIED:20251202T152811Z
UID:2035-1767537000-1767540600@saltoftheearthcfh.com
SUMMARY:Singing Bowls Sound Healing (Sold Out)
DESCRIPTION:In the serene and relaxing environment of the salt cave\, enjoy the sounds and vibrations of singing bowls and meditation with sound healer Beth Lantigua. Call 845-290-0678 to register.
URL:https://saltoftheearthcfh.com/upcoming-event/singing-bowls-sound-healing-27/
LOCATION:Salt of the Earth\, Center for Healing\, 811 Chestnut Ridge Rd.\, Chestnut Ridge\, New York\, 10977
ATTACH;FMTTYPE=image/jpeg:https://saltoftheearthcfh.com/wp-content/uploads/2017/04/sound-healing-image.jpg
END:VEVENT
BEGIN:VEVENT
DTSTART;TZID=America/New_York:20260111T143000
DTEND;TZID=America/New_York:20260111T153000
DTSTAMP:20260420T020859
CREATED:20251031T172521Z
LAST-MODIFIED:20251202T152748Z
UID:2037-1768141800-1768145400@saltoftheearthcfh.com
SUMMARY:Past Life Regression (Sold Out)
DESCRIPTION:In the relaxing and healing environment of the salt cave\, learn to understand yourself better by connecting with your past life.   Led by Lindsey Sass – owner of the NJ Healing Center. \nCall 845-290-0678 to register!
URL:https://saltoftheearthcfh.com/upcoming-event/past-life-regression-17/
LOCATION:Salt of the Earth\, Center for Healing\, 811 Chestnut Ridge Rd.\, Chestnut Ridge\, New York\, 10977
ATTACH;FMTTYPE=image/jpeg:https://saltoftheearthcfh.com/wp-content/uploads/2018/02/Past-Life-Regression.jpg
END:VEVENT
BEGIN:VEVENT
DTSTART;TZID=America/New_York:20260125T143000
DTEND;TZID=America/New_York:20260125T153000
DTSTAMP:20260420T020859
CREATED:20251202T153021Z
LAST-MODIFIED:20251202T153021Z
UID:2667-1769351400-1769355000@saltoftheearthcfh.com
SUMMARY:Singing Bowls Sound Healing (Sold Out)
DESCRIPTION:In the serene and relaxing environment of the salt cave\, enjoy the sounds and vibrations of singing bowls and meditation with sound healer Beth Lantigua. Call 845-290-0678 to register.
URL:https://saltoftheearthcfh.com/upcoming-event/singing-bowls-sound-healing-sold-out-3/
LOCATION:Salt of the Earth\, Center for Healing\, 811 Chestnut Ridge Rd.\, Chestnut Ridge\, New York\, 10977
ATTACH;FMTTYPE=image/jpeg:https://saltoftheearthcfh.com/wp-content/uploads/2017/04/sound-healing-image.jpg
END:VEVENT
BEGIN:VEVENT
DTSTART;TZID=America/New_York:20260208T143000
DTEND;TZID=America/New_York:20260208T153000
DTSTAMP:20260420T020859
CREATED:20251202T152523Z
LAST-MODIFIED:20260102T153208Z
UID:2661-1770561000-1770564600@saltoftheearthcfh.com
SUMMARY:Singing Bowls Sound Healing (SOLD OUT)
DESCRIPTION:In the serene and relaxing environment of the salt cave\, enjoy the sounds and vibrations of singing bowls and meditation with sound healer Beth Lantigua. Call 845-290-0678 to register.
URL:https://saltoftheearthcfh.com/upcoming-event/singing-bowls-sound-healing-28/
LOCATION:Salt of the Earth\, Center for Healing\, 811 Chestnut Ridge Rd.\, Chestnut Ridge\, New York\, 10977
ATTACH;FMTTYPE=image/jpeg:https://saltoftheearthcfh.com/wp-content/uploads/2017/04/sound-healing-image.jpg
END:VEVENT
BEGIN:VEVENT
DTSTART;TZID=America/New_York:20260301T143000
DTEND;TZID=America/New_York:20260301T153000
DTSTAMP:20260420T020859
CREATED:20251202T152724Z
LAST-MODIFIED:20260130T172800Z
UID:2663-1772375400-1772379000@saltoftheearthcfh.com
SUMMARY:Singing Bowls Sound Healing (Sold Out)
DESCRIPTION:In the serene and relaxing environment of the salt cave\, enjoy the sounds and vibrations of singing bowls and meditation with sound healer Beth Lantigua. Call 845-290-0678 to register.
URL:https://saltoftheearthcfh.com/upcoming-event/singing-bowls-sound-healing-29/
LOCATION:Salt of the Earth\, Center for Healing\, 811 Chestnut Ridge Rd.\, Chestnut Ridge\, New York\, 10977
ATTACH;FMTTYPE=image/jpeg:https://saltoftheearthcfh.com/wp-content/uploads/2017/04/sound-healing-image.jpg
END:VEVENT
BEGIN:VEVENT
DTSTART;TZID=America/New_York:20260315T143000
DTEND;TZID=America/New_York:20260315T153000
DTSTAMP:20260420T020859
CREATED:20260102T153538Z
LAST-MODIFIED:20260130T172826Z
UID:3244-1773585000-1773588600@saltoftheearthcfh.com
SUMMARY:Past Life Regression (Sold Out)
DESCRIPTION:In the relaxing and healing environment of the salt cave\, learn to understand yourself better by connecting with your past life.   Led by Lindsey Sass – owner of the NJ Healing Center. \nCall 845-290-0678 to register!
URL:https://saltoftheearthcfh.com/upcoming-event/past-life-regression-18/
LOCATION:Salt of the Earth\, Center for Healing\, 811 Chestnut Ridge Rd.\, Chestnut Ridge\, New York\, 10977
ATTACH;FMTTYPE=image/jpeg:https://saltoftheearthcfh.com/wp-content/uploads/2018/02/Past-Life-Regression.jpg
END:VEVENT
BEGIN:VEVENT
DTSTART;TZID=America/New_York:20260322T140000
DTEND;TZID=America/New_York:20260322T153000
DTSTAMP:20260420T020859
CREATED:20260227T170042Z
LAST-MODIFIED:20260227T170042Z
UID:3730-1774188000-1774193400@saltoftheearthcfh.com
SUMMARY:Cacao Ceremony & Singing Bowls Sound Healing
DESCRIPTION:We will begin with a Cacao Ceremony to set our intentions for the spring season.  We’ll follow this with a singing bowls sound healing session in the salt cave to welcome the new season. Led by Beth Lantigua. Call 845-290-0678 to register.  Cost $75
URL:https://saltoftheearthcfh.com/upcoming-event/cacao-ceremony-singing-bowls-sound-healing/
LOCATION:Salt of the Earth\, Center for Healing\, 811 Chestnut Ridge Rd.\, Chestnut Ridge\, New York\, 10977
ATTACH;FMTTYPE=image/jpeg:https://saltoftheearthcfh.com/wp-content/uploads/2017/04/sound-healing-image.jpg
END:VEVENT
BEGIN:VEVENT
DTSTART;TZID=America/New_York:20260329T143000
DTEND;TZID=America/New_York:20260329T153000
DTSTAMP:20260420T020859
CREATED:20260102T153414Z
LAST-MODIFIED:20260130T172842Z
UID:3242-1774794600-1774798200@saltoftheearthcfh.com
SUMMARY:Singing Bowls Sound Healing (Sold Out)
DESCRIPTION:In the serene and relaxing environment of the salt cave\, enjoy the sounds and vibrations of singing bowls and meditation with sound healer Beth Lantigua. Call 845-290-0678 to register.
URL:https://saltoftheearthcfh.com/upcoming-event/singing-bowls-sound-healing-30/
LOCATION:Salt of the Earth\, Center for Healing\, 811 Chestnut Ridge Rd.\, Chestnut Ridge\, New York\, 10977
ATTACH;FMTTYPE=image/jpeg:https://saltoftheearthcfh.com/wp-content/uploads/2017/04/sound-healing-image.jpg
END:VEVENT
BEGIN:VEVENT
DTSTART;TZID=America/New_York:20260411T163000
DTEND;TZID=America/New_York:20260411T173000
DTSTAMP:20260420T020859
CREATED:20260130T172551Z
LAST-MODIFIED:20260327T164029Z
UID:3470-1775925000-1775928600@saltoftheearthcfh.com
SUMMARY:Singing Bowls Sound Healing (Sold Out)
DESCRIPTION:In the serene and relaxing environment of the salt cave\, enjoy the sounds and vibrations of singing bowls and meditation with sound healer Beth Lantigua. Call 845-290-0678 to register.
URL:https://saltoftheearthcfh.com/upcoming-event/singing-bowls-sound-healing-31/
LOCATION:Salt of the Earth\, Center for Healing\, 811 Chestnut Ridge Rd.\, Chestnut Ridge\, New York\, 10977
ATTACH;FMTTYPE=image/jpeg:https://saltoftheearthcfh.com/wp-content/uploads/2017/04/sound-healing-image.jpg
END:VEVENT
BEGIN:VEVENT
DTSTART;TZID=America/New_York:20260426T143000
DTEND;TZID=America/New_York:20260426T153000
DTSTAMP:20260420T020859
CREATED:20260130T172658Z
LAST-MODIFIED:20260327T152428Z
UID:3472-1777213800-1777217400@saltoftheearthcfh.com
SUMMARY:Singing Bowls Sound Healing  (Sold Out)
DESCRIPTION:In the serene and relaxing environment of the salt cave\, enjoy the sounds and vibrations of singing bowls and meditation with sound healer Beth Lantigua. Call 845-290-0678 to register.
URL:https://saltoftheearthcfh.com/upcoming-event/singing-bowls-sound-healing-32/
LOCATION:Salt of the Earth\, Center for Healing\, 811 Chestnut Ridge Rd.\, Chestnut Ridge\, New York\, 10977
ATTACH;FMTTYPE=image/jpeg:https://saltoftheearthcfh.com/wp-content/uploads/2017/04/sound-healing-image.jpg
END:VEVENT
BEGIN:VEVENT
DTSTART;TZID=America/New_York:20260503T143000
DTEND;TZID=America/New_York:20260503T153000
DTSTAMP:20260420T020859
CREATED:20260130T173039Z
LAST-MODIFIED:20260227T165052Z
UID:3477-1777818600-1777822200@saltoftheearthcfh.com
SUMMARY:Past Life Regression (Sold Out)
DESCRIPTION:In the relaxing and healing environment of the salt cave\, learn to understand yourself better by connecting with your past life.   Led by Lindsey Sass – owner of the NJ Healing Center. \nCall 845-290-0678 to register!
URL:https://saltoftheearthcfh.com/upcoming-event/past-life-regression-19/
LOCATION:Salt of the Earth\, Center for Healing\, 811 Chestnut Ridge Rd.\, Chestnut Ridge\, New York\, 10977
ATTACH;FMTTYPE=image/jpeg:https://saltoftheearthcfh.com/wp-content/uploads/2018/02/Past-Life-Regression.jpg
END:VEVENT
BEGIN:VEVENT
DTSTART;TZID=America/New_York:20260517T143000
DTEND;TZID=America/New_York:20260517T153000
DTSTAMP:20260420T020859
CREATED:20260227T170602Z
LAST-MODIFIED:20260327T164047Z
UID:3732-1779028200-1779031800@saltoftheearthcfh.com
SUMMARY:Singing Bowls Sound Healing (Sold Out)
DESCRIPTION:In the serene and relaxing environment of the salt cave\, enjoy the sounds and vibrations of singing bowls and meditation with sound healer Beth Lantigua. Call 845-290-0678 to register.
URL:https://saltoftheearthcfh.com/upcoming-event/singing-bowls-sound-healing-33/
LOCATION:Salt of the Earth\, Center for Healing\, 811 Chestnut Ridge Rd.\, Chestnut Ridge\, New York\, 10977
ATTACH;FMTTYPE=image/jpeg:https://saltoftheearthcfh.com/wp-content/uploads/2017/04/sound-healing-image.jpg
END:VEVENT
END:VCALENDAR