BEGIN:VCALENDAR
VERSION:2.0
PRODID:-//Salt Of The Earth - ECPv6.15.20//NONSGML v1.0//EN
CALSCALE:GREGORIAN
METHOD:PUBLISH
X-ORIGINAL-URL:https://saltoftheearthcfh.com
X-WR-CALDESC:Events for Salt Of The Earth
REFRESH-INTERVAL;VALUE=DURATION:PT1H
X-Robots-Tag:noindex
X-PUBLISHED-TTL:PT1H
BEGIN:VTIMEZONE
TZID:America/New_York
BEGIN:DAYLIGHT
TZOFFSETFROM:-0500
TZOFFSETTO:-0400
TZNAME:EDT
DTSTART:20230312T070000
END:DAYLIGHT
BEGIN:STANDARD
TZOFFSETFROM:-0400
TZOFFSETTO:-0500
TZNAME:EST
DTSTART:20231105T060000
END:STANDARD
BEGIN:DAYLIGHT
TZOFFSETFROM:-0500
TZOFFSETTO:-0400
TZNAME:EDT
DTSTART:20240310T070000
END:DAYLIGHT
BEGIN:STANDARD
TZOFFSETFROM:-0400
TZOFFSETTO:-0500
TZNAME:EST
DTSTART:20241103T060000
END:STANDARD
BEGIN:DAYLIGHT
TZOFFSETFROM:-0500
TZOFFSETTO:-0400
TZNAME:EDT
DTSTART:20250309T070000
END:DAYLIGHT
BEGIN:STANDARD
TZOFFSETFROM:-0400
TZOFFSETTO:-0500
TZNAME:EST
DTSTART:20251102T060000
END:STANDARD
END:VTIMEZONE
BEGIN:VEVENT
DTSTART;TZID=America/New_York:20240707T090000
DTEND;TZID=America/New_York:20240707T170000
DTSTAMP:20260420T170812
CREATED:20240522T164254Z
LAST-MODIFIED:20240628T141148Z
UID:1835-1720342800-1720371600@saltoftheearthcfh.com
SUMMARY:Reiki Level 1 Training
DESCRIPTION:International Center for Reiki Training (ICRT) manual is used for training which includes Reiki 2.\n$225 plus $25 manual fee\, 4 person maximum.  This is a one-day class where you will learn to do Reiki on yourself and others.  You’ll also receive an attunement\, connecting you to Reiki energy.\nA deposit of $100 is required in advance of training with the balance of $150 due on class day.\nTo register for this class\, contact ~\nLisa LaCava\, Heartfelt Healing\n(914) 527-9273\nReikiwithlisa123@gmail.com
URL:https://saltoftheearthcfh.com/upcoming-event/reiki-level-1-training-2/
LOCATION:Salt of the Earth\, Center for Healing\, 811 Chestnut Ridge Rd.\, Chestnut Ridge\, New York\, 10977
END:VEVENT
END:VCALENDAR