BEGIN:VCALENDAR
VERSION:2.0
PRODID:-//Salt Of The Earth - ECPv6.15.20//NONSGML v1.0//EN
CALSCALE:GREGORIAN
METHOD:PUBLISH
X-ORIGINAL-URL:https://saltoftheearthcfh.com
X-WR-CALDESC:Events for Salt Of The Earth
REFRESH-INTERVAL;VALUE=DURATION:PT1H
X-Robots-Tag:noindex
X-PUBLISHED-TTL:PT1H
BEGIN:VTIMEZONE
TZID:America/New_York
BEGIN:DAYLIGHT
TZOFFSETFROM:-0500
TZOFFSETTO:-0400
TZNAME:EDT
DTSTART:20250309T070000
END:DAYLIGHT
BEGIN:STANDARD
TZOFFSETFROM:-0400
TZOFFSETTO:-0500
TZNAME:EST
DTSTART:20251102T060000
END:STANDARD
BEGIN:DAYLIGHT
TZOFFSETFROM:-0500
TZOFFSETTO:-0400
TZNAME:EDT
DTSTART:20260308T070000
END:DAYLIGHT
BEGIN:STANDARD
TZOFFSETFROM:-0400
TZOFFSETTO:-0500
TZNAME:EST
DTSTART:20261101T060000
END:STANDARD
BEGIN:DAYLIGHT
TZOFFSETFROM:-0500
TZOFFSETTO:-0400
TZNAME:EDT
DTSTART:20270314T070000
END:DAYLIGHT
BEGIN:STANDARD
TZOFFSETFROM:-0400
TZOFFSETTO:-0500
TZNAME:EST
DTSTART:20271107T060000
END:STANDARD
END:VTIMEZONE
BEGIN:VEVENT
DTSTART;TZID=America/New_York:20260104T143000
DTEND;TZID=America/New_York:20260104T153000
DTSTAMP:20260419T084808
CREATED:20251031T172111Z
LAST-MODIFIED:20251202T152811Z
UID:2035-1767537000-1767540600@saltoftheearthcfh.com
SUMMARY:Singing Bowls Sound Healing (Sold Out)
DESCRIPTION:In the serene and relaxing environment of the salt cave\, enjoy the sounds and vibrations of singing bowls and meditation with sound healer Beth Lantigua. Call 845-290-0678 to register.
URL:https://saltoftheearthcfh.com/upcoming-event/singing-bowls-sound-healing-27/
LOCATION:Salt of the Earth\, Center for Healing\, 811 Chestnut Ridge Rd.\, Chestnut Ridge\, New York\, 10977
ATTACH;FMTTYPE=image/jpeg:https://saltoftheearthcfh.com/wp-content/uploads/2017/04/sound-healing-image.jpg
END:VEVENT
BEGIN:VEVENT
DTSTART;TZID=America/New_York:20260111T143000
DTEND;TZID=America/New_York:20260111T153000
DTSTAMP:20260419T084808
CREATED:20251031T172521Z
LAST-MODIFIED:20251202T152748Z
UID:2037-1768141800-1768145400@saltoftheearthcfh.com
SUMMARY:Past Life Regression (Sold Out)
DESCRIPTION:In the relaxing and healing environment of the salt cave\, learn to understand yourself better by connecting with your past life.   Led by Lindsey Sass – owner of the NJ Healing Center. \nCall 845-290-0678 to register!
URL:https://saltoftheearthcfh.com/upcoming-event/past-life-regression-17/
LOCATION:Salt of the Earth\, Center for Healing\, 811 Chestnut Ridge Rd.\, Chestnut Ridge\, New York\, 10977
ATTACH;FMTTYPE=image/jpeg:https://saltoftheearthcfh.com/wp-content/uploads/2018/02/Past-Life-Regression.jpg
END:VEVENT
BEGIN:VEVENT
DTSTART;TZID=America/New_York:20260125T143000
DTEND;TZID=America/New_York:20260125T153000
DTSTAMP:20260419T084808
CREATED:20251202T153021Z
LAST-MODIFIED:20251202T153021Z
UID:2667-1769351400-1769355000@saltoftheearthcfh.com
SUMMARY:Singing Bowls Sound Healing (Sold Out)
DESCRIPTION:In the serene and relaxing environment of the salt cave\, enjoy the sounds and vibrations of singing bowls and meditation with sound healer Beth Lantigua. Call 845-290-0678 to register.
URL:https://saltoftheearthcfh.com/upcoming-event/singing-bowls-sound-healing-sold-out-3/
LOCATION:Salt of the Earth\, Center for Healing\, 811 Chestnut Ridge Rd.\, Chestnut Ridge\, New York\, 10977
ATTACH;FMTTYPE=image/jpeg:https://saltoftheearthcfh.com/wp-content/uploads/2017/04/sound-healing-image.jpg
END:VEVENT
END:VCALENDAR